BEGIN:VCALENDAR
VERSION:2.0
PRODID:-//Middlesex Tennis - ECPv6.15.20//NONSGML v1.0//EN
CALSCALE:GREGORIAN
METHOD:PUBLISH
X-ORIGINAL-URL:https://www.middlesex.tennis
X-WR-CALDESC:Events for Middlesex Tennis
REFRESH-INTERVAL;VALUE=DURATION:PT1H
X-Robots-Tag:noindex
X-PUBLISHED-TTL:PT1H
BEGIN:VTIMEZONE
TZID:UTC
BEGIN:STANDARD
TZOFFSETFROM:+0000
TZOFFSETTO:+0000
TZNAME:UTC
DTSTART:20230101T000000
END:STANDARD
END:VTIMEZONE
BEGIN:VEVENT
DTSTART;TZID=UTC:20251209T090000
DTEND;TZID=UTC:20251209T140000
DTSTAMP:20260424T181630
CREATED:20251016T083046Z
LAST-MODIFIED:20251016T083046Z
UID:4850-1765270800-1765288800@www.middlesex.tennis
SUMMARY:Unlocking the FAGE LTA Youth Tennis Leaders Programme
DESCRIPTION:Does your venue need extra help with running coaching sessions\, holiday clubs\, competitions\, open days and off-court activities?  \nDo you want to offer the young people at your venue the chance to take their first step towards a career in tennis or another sport by gaining experience in several different roles? \nCome along and join Middlesex Tennis and learn how to deliver the FAGE LTA Youth Tennis Leaders programme for young people aged 11-18.  \nPoints of note\n\nTimeframe includes 45 mins lunch break. Food/refreshments are not provided\, please bring your own.\nCourse Pre-Requisite: Coaches must be a minimum of Level 3\nCPD Credits: 4 LTA CPD credits available via LTA Independent Learning application – click here for details.\nCourse Capacity – only 16 spaces – book early to avoid disappointment!\n\nHow to Book\nClick here to book and to access payment link. \nPlease note\, bookings won’t be confirmed until payment has been made. \nCPD Course Description\nThis course will show you how to deliver\, access and utilise the FAGE LTA Tennis Leaders programme. It is ideal for Level 3+ coaches who are looking to train young people to support you to deliver tennis sessions on court\, but also help across other areas such as club management\, local outreach\, sustainability and digital marketing. \nOnce trained\, the young leaders will be an extra pair of hands to set out equipment or work with small groups and will free you up to focus on delivering quality tennis sessions. \nLearning outcomes\n\nHow to access the free LTA resources\nBenefits of running a FAGE LTA Leaders programme at your venue including case studies to bring to life the success it can bring you\, your leaders and your venue\nOn court practical delivery ideas for running your own programme\nIdeas of financial benefits\, leader incentives and models of best practice
URL:https://www.middlesex.tennis/event/unlocking-the-fage-lta-youth-tennis-leaders-programme/
LOCATION:Islington Tennis Centre\, Market Road\, London\, Middlesex\, N7 9PL\, United Kingdom
CATEGORIES:Coach CPD
ATTACH;FMTTYPE=image/jpeg:https://www.middlesex.tennis/wp-content/uploads/2025/01/Mark-Hayden-1.jpg
END:VEVENT
BEGIN:VEVENT
DTSTART;TZID=UTC:20250703T093000
DTEND;TZID=UTC:20250703T133000
DTSTAMP:20260424T181630
CREATED:20250617T150448Z
LAST-MODIFIED:20250617T150448Z
UID:4414-1751535000-1751549400@www.middlesex.tennis
SUMMARY:Wheelchair Awareness of Standards Day CPD at the Lexus British Open
DESCRIPTION:We are excited to share information with you about an upcoming CPD event due to take place at the Lexus British Open Wheelchair event in Roehampton on Thursday 3 July. \nProposed Schedule \n9-9.30 Arrival coffee & refreshments \n9.30 – 10.30 Background to awareness of standards with Mark Bullock\, and one of the LTA national coaches. \n10.30 -12.30 Watching & charting matches \n12.30 – 13.30 Feedback & reflection session \n13.30 – Close of play and opportunity to watch further matches (optional) \nCPD credits: Coaches can apply via LTA Independent Learning form for CPD credits recognition. \nCost: FREE for coaches to attend. \nHow to book on: \nPlease use the following link – https://clubspark.lta.org.uk/SurreyTennisCoachesGroup/Coaching/Session/61727f28-6bde-44b9-b819-b81fcf0b7612 \n 
URL:https://www.middlesex.tennis/event/wheelchair-awareness-of-standards-day-cpd-at-the-lexus-british-open/
LOCATION:Wimbledon Qualifying and Community Sports Centre\, Roehampton (SW15 5JT)\, Wimbledon Qualifying and Community Sports Centre\,\, Roehampton\, SW15 5JT\, United Kingdom
CATEGORIES:Coach CPD
ATTACH;FMTTYPE=image/jpeg:https://www.middlesex.tennis/wp-content/uploads/2025/06/Lexus-British-Open-social-on-sale.jpg
ORGANIZER;CN="Middlesex Tennis":MAILTO:county.office@middlesextennis.org.uk
END:VEVENT
BEGIN:VEVENT
DTSTART;TZID=UTC:20250515T120000
DTEND;TZID=UTC:20250515T140000
DTSTAMP:20260424T181630
CREATED:20250428T143247Z
LAST-MODIFIED:20260410T084425Z
UID:4339-1747310400-1747317600@www.middlesex.tennis
SUMMARY:Interactive Online Coach Workshop to understand more about ADHD and Autism
DESCRIPTION:Herts Tennis are organising a 2 hour interactive online workshop to understand more about ADHD and Autism. \nLearning outcomes: \n\nTo explore what autism and ADHD are and what they are not\nTo explore strategies to support interaction and communication with neurodivergent children and young people\nTo explore these strategies to support the neurodivergent children and young people you coach\nTo develop an individual action plan\n\nDATE/TIME Thursday 15th May 2025 12 – 2pm (link to join will be sent on receipt of payment) \nCOURSE FEE Coaches working in Herts Registered Venues £10\, Outside Herts £15 \n2 CPD points for those who attend. \n  \nIf you are interested please email martin.etheridge@middlesextennis.org.uk
URL:https://www.middlesex.tennis/event/interactive-online-coach-workshop-to-understand-more-about-adhd-and-autism/
LOCATION:Gosling Sports Club\, Stanborough Rd\, Welwyn Garden City\, AL8 6XE\, United Kingdom
CATEGORIES:Coach CPD
ORGANIZER;CN="Herts Tennis":MAILTO:hertstennis@gmail.com
END:VEVENT
BEGIN:VEVENT
DTSTART;TZID=UTC:20250402T090000
DTEND;TZID=UTC:20250402T163000
DTSTAMP:20260424T181630
CREATED:20250127T025638Z
LAST-MODIFIED:20250310T144454Z
UID:2989-1743584400-1743611400@www.middlesex.tennis
SUMMARY:Middlesex Tennis Coach Conference
DESCRIPTION:Coach Conference	\n	\n	\n\n	\nMiddlesex Tennis in conjunction with UCoach\, are excited to announce the first ever Coach Conference with the theme ‘Laying the Foundations for Future Performers. \n\n\nMiddlesex Tennis are committed to giving our coaches the tools to deliver the highest quality coaching by providing support for current and potential coaches to thrive. Join us as we bring together our network of Middlesex coaches to witness expert speakers who will deliver both on and off-court sessions designed to enhance your coaching knowledge and help your players prosper.\n\nBook your space now…\n\nCheck out our speakers….\nSpeaker 1: Mark Hayden\, LTA 10U National Pathway Coach\, London & South East \n10 & Under Player Development Themes Linked to Awareness of Standards \nMark is currently an LTA National Coach where he manages the Southeast region. He is a Level 5 MPC coach\, an LTA Coach Tutor and also a qualified Mentor \nSpeaker 2: Matt Little\, Strength and Conditioning Coach \nThe role of motivation through positive mind set and action in junior player development.  \nMatt has been working in elite level tennis for over 15 years. During this time\, he has worked with players and teams of all ages from the bottom to the very top of the game including 12 years as part of Team Murray. \nSpeaker 3: Alistair Higham \nDeveloping Thinking Players. \nAlistair Higham is an international expert on match play and momentum. His work on momentum includes advising professional coaches and players primarily in tennis and football. He is Great Britain Student Tennis Team Captain\, winning medals in the last 12 international events. He heads up the GB University Programme for the LTA 4 days a week and is Director of Coaching Edge UK. \nSpeaker 4: Dylan Gee \nEnhance your social media presence in tennis. \nDylan Gee\, also known online as ‘Tennis with Dylan’\, is a former tennis professional and current coach. Dylan uses his experience to inspire and grow the sport globally through educational content\, behind the scenes insights at pro tournaments\, and building an engaged community on Instagram\, YouTube\, and TikTok (700K+ followers) to connect with tennis fans worldwide. \nSpeaker 5: Suzanne Williams \nTennis Movement: On-Court Movement Assessments Linking with Off-Court Training. \nSuzanne’s background is in junior tennis development and coach education. Her qualifications include LTA Level 5 Performance Tennis Coach\, a UKSCA Accredited Strength & Conditioning Coach and an LTA Coach Education Tutor. \nSuzanne has 30 years’ experience using S&C to improve player performance and upskill coaches. She’s worked with players of all ages and stages from future Grand Slam Champions (Emma Raducanu) to keen adult team players. \nSpeaker 6: Sergio Gomez Cuesta \nHow to coach optimal biomechanics for transferable and adaptable competitive skills.’ \nSergio is a technical skills specialist trusted to support organisations\, players\, and coaches worldwide from Professional Tours and Grand Slams to 10u. Sergio specialises in the analysis and development of tennis strokes as well as the treatment and prevention of tennis strokes related injuries. Sergio is qualified in performance coaching\, physiotherapy\, strength\, and conditioning with a Master’s in tennis biomechanics and sport sciences. \n Speaker 7: Mark Bullock \nEnhance your social media presence in tennis & how it can used to promote inclusion in the sport.’ \nMark has been involved in disability tennis as a \ncoach\, coach educator\, mentor\, administrator\, volunteer\, and event organiser for more than 30 years. Mark was LTA Coach of the Year in 2021 & was recently awarded the International Tennis Federation’s UNIQLO Spirit of Sport Award and the Brad Parks Award. He worked for the ITF on Wheelchair Tennis for 15 years and is a former National Wheelchair Tennis Coach. He is an LTA Mentor and has coached players with a wide range of impairments. \n*Please note\, Mark will be joining Dylan Gee as part of a small panl discussion.
URL:https://www.middlesex.tennis/event/middlesex-tennis-coach-conference/
LOCATION:Virgin Active Chiswick Riverside\, Dukes Meadows\, Riverside Dr\, Chiswick\, London\, W4 2SX
CATEGORIES:Coach CPD
ATTACH;FMTTYPE=image/jpeg:https://www.middlesex.tennis/wp-content/uploads/2025/01/Middx-Coach-Conference-2025-1080-x-1350-px-SM-Graphics.zip-1.jpeg
ORGANIZER;CN="Middlesex Tennis":MAILTO:county.office@middlesextennis.org.uk
END:VEVENT
BEGIN:VEVENT
DTSTART;TZID=UTC:20250306T080000
DTEND;TZID=UTC:20250306T120000
DTSTAMP:20260424T181630
CREATED:20250123T032409Z
LAST-MODIFIED:20251030T171814Z
UID:2582-1741248000-1741262400@www.middlesex.tennis
SUMMARY:How To Coach the Person and Not the Disability by UCoach
DESCRIPTION:This course empowers you to confidently coach players with impairments by adopting a player-centred approach\, focusing on individual needs and potential.\n  \n‘How to Coach the Person and not the Disability’ was created by Louise Assioun\, current Head Coach of GB’s Blind & Visually Impaired Tennis Team\, and Director at LUSU Sports (experts in inclusive sport and activity)
URL:https://www.middlesex.tennis/event/how-to-coach-the-person-and-not-the-disability-by-ucoach/
LOCATION:Batchwood Tennis Centre\, Batchwood Drive\, St Albans\, AL3 5XA
CATEGORIES:Coach CPD
ATTACH;FMTTYPE=image/jpeg:https://www.middlesex.tennis/wp-content/uploads/2025/01/IMG_0702.jpg
ORGANIZER;CN="UCoach":MAILTO:administration@ucoach.org.uk
END:VEVENT
BEGIN:VEVENT
DTSTART;TZID=UTC:20250205T093000
DTEND;TZID=UTC:20250205T103000
DTSTAMP:20260424T181630
CREATED:20250123T032007Z
LAST-MODIFIED:20250203T223407Z
UID:2579-1738747800-1738751400@www.middlesex.tennis
SUMMARY:Strategies for Building a Strong Coach-Venue Partnership
DESCRIPTION:Join us in conversation with Robert Wedlake\, LTA Level 4 Coach and LTA Coach Mentor\, and Lydia Edgar\, Brabners employment lawyer\, as we discuss the various aspects of the coach-venue relationship.
URL:https://www.middlesex.tennis/event/strategies-for-building-a-strong-coach-venue-partnership/
LOCATION:Middlesex
CATEGORIES:Coach CPD
ATTACH;FMTTYPE=image/jpeg:https://www.middlesex.tennis/wp-content/uploads/2025/01/changdos-e1738621982364.jpg
END:VEVENT
BEGIN:VEVENT
DTSTART;TZID=UTC:20241121T100000
DTEND;TZID=UTC:20241121T130000
DTSTAMP:20260424T181630
CREATED:20241114T112454Z
LAST-MODIFIED:20241114T113336Z
UID:1141-1732183200-1732194000@www.middlesex.tennis
SUMMARY:Delivering Disability Programmes
DESCRIPTION:Herts Tennis and Middlesex LTA are excited to announce a joint venture in offering a Coach and Club forum on Delivering Disability Programmes. We will show how your county Open Court Team can support you as clubs and coaches to start or continue to build a programme that supports players with disabilities in their local community. This event will be relevant to both club committees\, open court leads and coaches. \nPlan for the day \n\nWelcome and outline of the disability tennis support available for clubs and coaches and how to start or grow their disability tennis programmes.\nOn Court Learning Disability example session with practical delivery ideas run by Jon Wildman (head coach of Get Set 4 Tennis) with a Q&A after.\nWheelchair tennis on court practical session run by Stuart Wilkinson (GB Wheelchair Coach) with a Q+A session after. Attendees who would like to bring a player they work with are welcome to.\nNetworking Opportunities\nLight Refreshments will be available.\n\nTo book your place please fill in the form here and return it to PYWHerts@gmail.com
URL:https://www.middlesex.tennis/event/delivering-disability-programmes/
LOCATION:Gosling Sports Club\, Stanborough Rd\, Welwyn Garden City\, AL8 6XE\, United Kingdom
CATEGORIES:Coach CPD
ATTACH;FMTTYPE=image/jpeg:https://www.middlesex.tennis/wp-content/uploads/2024/11/CC-2023-scaled-e1731583410984.jpg
ORGANIZER;CN="Middlesex Tennis":MAILTO:county.office@middlesextennis.org.uk
END:VEVENT
END:VCALENDAR